BEGIN:VCALENDAR
VERSION:2.0
PRODID:-//Metro Building Inspectors Association of Greater Grand Rapids - ECPv6.15.18//NONSGML v1.0//EN
CALSCALE:GREGORIAN
METHOD:PUBLISH
X-WR-CALNAME:Metro Building Inspectors Association of Greater Grand Rapids
X-ORIGINAL-URL:https://metrobuilding.org
X-WR-CALDESC:Events for Metro Building Inspectors Association of Greater Grand Rapids
REFRESH-INTERVAL;VALUE=DURATION:PT1H
X-Robots-Tag:noindex
X-PUBLISHED-TTL:PT1H
BEGIN:VTIMEZONE
TZID:UTC
BEGIN:STANDARD
TZOFFSETFROM:+0000
TZOFFSETTO:+0000
TZNAME:UTC
DTSTART:20250101T000000
END:STANDARD
END:VTIMEZONE
BEGIN:VEVENT
DTSTART;TZID=UTC:20260212T090000
DTEND;TZID=UTC:20260212T120000
DTSTAMP:20260421T110128
CREATED:20251231T001604Z
LAST-MODIFIED:20260225T203424Z
UID:484-1770886800-1770897600@metrobuilding.org
SUMMARY:February Meeting and Training
DESCRIPTION:Chapter Meeting and CE seminar. \nCE Course will be: Legislative Advocacy \nMI program approval #: CP-24-00117 \nCredit: 2 hours Specialty\,  ALL \nInstructor: Benedetto Tiseco \nLocation: Embassy Suites Grand rapids \nJoin the GoTo meeting: meet.goto.com/metrobuildinginspectors \nCertificates of completion can be requested here: Certificate \nAttachments: \nMinutesFeb12 \n240723-LegislativeAdvocacy-Class-Approved to Sep 16\, 2027 \n260212 – Legislative Advocacy PowerPoint Presentation \n260212 – Legislative Advocacy PowerPoint Presentation – Handout
URL:https://metrobuilding.org/event/february-meeting-and-training/
LOCATION:Embassy Suites\, 700 Monroe Ave NW\, Grand Rapids MI\, MI\, 49503\, United States
CATEGORIES:Monthly Meetings
END:VEVENT
END:VCALENDAR